Package: SIMD Version: 1.29.0 Maintainer: Jiadi Zhu MaintainerEmail: 2160090406 at email.szu.edu.cn git_url: https://git.bioconductor.org/packages/SIMD git_branch: devel git_last_commit: cf6185c git_last_commit_date: 2025-10-29 10:47:35 -0500 (Wed, 29 Oct 2025)