Package: SIMAT Version: 1.43.0 Command: /home/biocbuild/bbs-3.23-bioc/R/bin/R CMD INSTALL SIMAT StartedAt: 2025-11-14 15:23:19 -0500 (Fri, 14 Nov 2025) EndedAt: 2025-11-14 15:23:27 -0500 (Fri, 14 Nov 2025) EllapsedTime: 8.1 seconds RetCode: 0 Status: OK