Package: SIMAT Version: 1.43.0 Command: /home/biocbuild/bbs-3.23-bioc/R/bin/R CMD build --keep-empty-dirs --no-resave-data SIMAT StartedAt: 2025-11-14 20:05:11 -0500 (Fri, 14 Nov 2025) EndedAt: 2025-11-14 20:05:30 -0500 (Fri, 14 Nov 2025) EllapsedTime: 19.0 seconds RetCode: 0 Status: OK PackageFile: SIMAT_1.43.0.tar.gz PackageFileSize: 1.037 MiB