Package: SIMAT Version: 1.43.0 Command: /Library/Frameworks/R.framework/Resources/bin/R CMD INSTALL SIMAT StartedAt: 2025-11-14 15:10:43 -0500 (Fri, 14 Nov 2025) EndedAt: 2025-11-14 15:10:47 -0500 (Fri, 14 Nov 2025) EllapsedTime: 3.9 seconds RetCode: 0 Status: OK