Package: SIMAT Version: 1.43.0 Command: /Library/Frameworks/R.framework/Resources/bin/R CMD build --keep-empty-dirs --no-resave-data SIMAT StartedAt: 2025-11-13 17:43:27 -0500 (Thu, 13 Nov 2025) EndedAt: 2025-11-13 17:43:37 -0500 (Thu, 13 Nov 2025) EllapsedTime: 10.1 seconds RetCode: 0 Status: OK PackageFile: SIMAT_1.43.0.tar.gz PackageFileSize: 1.038 MiB