Package: SIMAT Version: 1.43.0 Maintainer: M. R. Nezami Ranjbar MaintainerEmail: nranjbar at vt.edu git_url: https://git.bioconductor.org/packages/SIMAT git_branch: devel git_last_commit: 042d9a6 git_last_commit_date: 2025-10-29 10:24:37 -0500 (Wed, 29 Oct 2025)