Package: SIM Version: 1.81.0 Command: /home/biocbuild/bbs-3.23-bioc/R/bin/R CMD INSTALL SIM StartedAt: 2025-11-13 15:29:21 -0500 (Thu, 13 Nov 2025) EndedAt: 2025-11-13 15:29:39 -0500 (Thu, 13 Nov 2025) EllapsedTime: 18.2 seconds RetCode: 0 Status: OK