Package: SIM Version: 1.81.0 Command: /home/biocbuild/bbs-3.23-bioc/R/bin/R CMD build --keep-empty-dirs --no-resave-data SIM StartedAt: 2025-11-13 20:04:51 -0500 (Thu, 13 Nov 2025) EndedAt: 2025-11-13 20:05:24 -0500 (Thu, 13 Nov 2025) EllapsedTime: 33.0 seconds RetCode: 0 Status: OK PackageFile: SIM_1.81.0.tar.gz PackageFileSize: 461.4 KiB