Package: SIM Version: 1.81.0 Command: /Library/Frameworks/R.framework/Resources/bin/R CMD INSTALL SIM StartedAt: 2025-11-13 15:09:29 -0500 (Thu, 13 Nov 2025) EndedAt: 2025-11-13 15:09:36 -0500 (Thu, 13 Nov 2025) EllapsedTime: 7.4 seconds RetCode: 0 Status: OK