Package: SIM Version: 1.81.0 Command: /Library/Frameworks/R.framework/Resources/bin/R CMD build --keep-empty-dirs --no-resave-data SIM StartedAt: 2025-11-13 17:43:24 -0500 (Thu, 13 Nov 2025) EndedAt: 2025-11-13 17:43:39 -0500 (Thu, 13 Nov 2025) EllapsedTime: 15.2 seconds RetCode: 0 Status: OK PackageFile: SIM_1.81.0.tar.gz PackageFileSize: 461.5 KiB