Package: SIM Version: 1.81.0 Command: rm -rf SIM.buildbin-libdir && mkdir SIM.buildbin-libdir && /Users/biocbuild/BBS/utils/build-universal.sh SIM_1.81.0.tar.gz /Library/Frameworks/R.framework/Resources/bin/R SIM.buildbin-libdir StartedAt: 2025-11-13 23:56:56 -0500 (Thu, 13 Nov 2025) EndedAt: 2025-11-13 23:57:06 -0500 (Thu, 13 Nov 2025) EllapsedTime: 10.2 seconds RetCode: 0 Status: OK PackageFile: SIM_1.81.0.tgz PackageFileSize: 620.1 KiB