Package: SIM Version: 1.81.0 Maintainer: Renee X. de Menezes MaintainerEmail: r.menezes at nki.nl git_url: https://git.bioconductor.org/packages/SIM git_branch: devel git_last_commit: ca66dc5 git_last_commit_date: 2025-10-29 10:00:51 -0500 (Wed, 29 Oct 2025)