Package: SICtools Version: 1.41.0 Command: /home/biocbuild/bbs-3.23-bioc/R/bin/R CMD INSTALL SICtools StartedAt: 2025-11-11 15:21:04 -0500 (Tue, 11 Nov 2025) EndedAt: 2025-11-11 15:21:38 -0500 (Tue, 11 Nov 2025) EllapsedTime: 34.7 seconds RetCode: 0 Status: OK