Package: SICtools Version: 1.41.0 Command: /Library/Frameworks/R.framework/Resources/bin/R CMD INSTALL SICtools StartedAt: 2025-11-12 15:26:52 -0500 (Wed, 12 Nov 2025) EndedAt: 2025-11-12 15:27:04 -0500 (Wed, 12 Nov 2025) EllapsedTime: 12.4 seconds RetCode: 0 Status: OK