Package: SICtools Version: 1.41.0 Maintainer: Xiaobin Xing MaintainerEmail: xiaobinxing0316 at gmail.com git_url: https://git.bioconductor.org/packages/SICtools git_branch: devel git_last_commit: d34246d git_last_commit_date: 2025-10-29 10:28:10 -0500 (Wed, 29 Oct 2025)