Package: SIAMCAT Version: 2.15.0 Command: /Library/Frameworks/R.framework/Resources/bin/R CMD INSTALL SIAMCAT StartedAt: 2025-11-23 15:08:51 -0500 (Sun, 23 Nov 2025) EndedAt: 2025-11-23 15:09:02 -0500 (Sun, 23 Nov 2025) EllapsedTime: 11.5 seconds RetCode: 0 Status: OK