Package: SIAMCAT Version: 2.15.0 Command: /Library/Frameworks/R.framework/Resources/bin/R CMD build --keep-empty-dirs --no-resave-data SIAMCAT StartedAt: 2025-11-21 17:39:04 -0500 (Fri, 21 Nov 2025) EndedAt: 2025-11-21 17:40:40 -0500 (Fri, 21 Nov 2025) EllapsedTime: 96.1 seconds RetCode: 0 Status: OK PackageFile: SIAMCAT_2.15.0.tar.gz PackageFileSize: 18.86 MiB