Package: SIAMCAT Version: 2.15.0 Command: rm -rf SIAMCAT.buildbin-libdir && mkdir SIAMCAT.buildbin-libdir && /Users/biocbuild/BBS/utils/build-universal.sh SIAMCAT_2.15.0.tar.gz /Library/Frameworks/R.framework/Resources/bin/R SIAMCAT.buildbin-libdir StartedAt: 2025-11-21 23:51:36 -0500 (Fri, 21 Nov 2025) EndedAt: 2025-11-21 23:51:52 -0500 (Fri, 21 Nov 2025) EllapsedTime: 15.3 seconds RetCode: 0 Status: OK PackageFile: SIAMCAT_2.15.0.tgz PackageFileSize: 10.76 MiB