Package: SGSeq Version: 1.45.0 Command: /home/biocbuild/bbs-3.23-bioc/R/bin/R CMD INSTALL SGSeq StartedAt: 2025-11-13 15:44:00 -0500 (Thu, 13 Nov 2025) EndedAt: 2025-11-13 15:44:41 -0500 (Thu, 13 Nov 2025) EllapsedTime: 40.6 seconds RetCode: 0 Status: OK