Package: SGSeq Version: 1.45.0 Command: /Library/Frameworks/R.framework/Resources/bin/R CMD INSTALL SGSeq StartedAt: 2025-11-12 15:40:58 -0500 (Wed, 12 Nov 2025) EndedAt: 2025-11-12 15:41:15 -0500 (Wed, 12 Nov 2025) EllapsedTime: 16.3 seconds RetCode: 0 Status: OK