Package: SGSeq Version: 1.45.0 Command: /Library/Frameworks/R.framework/Resources/bin/R CMD build --keep-empty-dirs --no-resave-data SGSeq StartedAt: 2025-11-12 17:13:06 -0500 (Wed, 12 Nov 2025) EndedAt: 2025-11-12 17:14:25 -0500 (Wed, 12 Nov 2025) EllapsedTime: 78.0 seconds RetCode: 0 Status: OK PackageFile: SGSeq_1.45.0.tar.gz PackageFileSize: 1.763 MiB