Package: SGSeq Version: 1.45.0 Command: rm -rf SGSeq.buildbin-libdir && mkdir SGSeq.buildbin-libdir && /Users/biocbuild/BBS/utils/build-universal.sh SGSeq_1.45.0.tar.gz /Library/Frameworks/R.framework/Resources/bin/R SGSeq.buildbin-libdir StartedAt: 2025-11-12 21:10:47 -0500 (Wed, 12 Nov 2025) EndedAt: 2025-11-12 21:11:07 -0500 (Wed, 12 Nov 2025) EllapsedTime: 19.4 seconds RetCode: 0 Status: OK PackageFile: SGSeq_1.45.0.tgz PackageFileSize: 1.805 MiB