Package: SGSeq Version: 1.45.0 Maintainer: Leonard Goldstein MaintainerEmail: ldgoldstein at gmail.com git_url: https://git.bioconductor.org/packages/SGSeq git_branch: devel git_last_commit: fef2917 git_last_commit_date: 2025-10-29 10:22:27 -0500 (Wed, 29 Oct 2025)