Package: SEtools Version: 1.25.0 Command: /home/biocbuild/bbs-3.23-bioc/R/bin/R CMD INSTALL SEtools StartedAt: 2025-11-14 15:29:21 -0500 (Fri, 14 Nov 2025) EndedAt: 2025-11-14 15:29:55 -0500 (Fri, 14 Nov 2025) EllapsedTime: 34.3 seconds RetCode: 0 Status: OK