Package: SEtools Version: 1.25.0 Command: /home/biocbuild/bbs-3.23-bioc/R/bin/R CMD build --keep-empty-dirs --no-resave-data SEtools StartedAt: 2025-11-14 20:02:52 -0500 (Fri, 14 Nov 2025) EndedAt: 2025-11-14 20:03:42 -0500 (Fri, 14 Nov 2025) EllapsedTime: 50.0 seconds RetCode: 0 Status: OK PackageFile: SEtools_1.25.0.tar.gz PackageFileSize: 537.2 KiB