Package: SEtools Version: 1.25.0 Command: /Library/Frameworks/R.framework/Resources/bin/R CMD INSTALL SEtools StartedAt: 2025-11-13 15:13:14 -0500 (Thu, 13 Nov 2025) EndedAt: 2025-11-13 15:13:28 -0500 (Thu, 13 Nov 2025) EllapsedTime: 14.1 seconds RetCode: 0 Status: OK