Package: SEtools Version: 1.25.0 Command: /Library/Frameworks/R.framework/Resources/bin/R CMD build --keep-empty-dirs --no-resave-data SEtools StartedAt: 2025-11-13 17:42:10 -0500 (Thu, 13 Nov 2025) EndedAt: 2025-11-13 17:42:31 -0500 (Thu, 13 Nov 2025) EllapsedTime: 21.2 seconds RetCode: 0 Status: OK PackageFile: SEtools_1.25.0.tar.gz PackageFileSize: 539 KiB