Package: SEtools Version: 1.25.0 Maintainer: Pierre-Luc Germain MaintainerEmail: pierre-luc.germain at hest.ethz.ch git_url: https://git.bioconductor.org/packages/SEtools git_branch: devel git_last_commit: beb739e git_last_commit_date: 2025-10-29 10:54:13 -0500 (Wed, 29 Oct 2025)