Package: SETA Version: 1.1.0 Command: /home/biocbuild/bbs-3.23-bioc/R/bin/R CMD build --keep-empty-dirs --no-resave-data SETA StartedAt: 2025-11-14 20:02:48 -0500 (Fri, 14 Nov 2025) EndedAt: 2025-11-14 20:04:12 -0500 (Fri, 14 Nov 2025) EllapsedTime: 84.1 seconds RetCode: 0 Status: OK PackageFile: SETA_1.1.0.tar.gz PackageFileSize: 4.652 MiB