Package: SETA Version: 1.1.0 Command: /Library/Frameworks/R.framework/Resources/bin/R CMD INSTALL SETA StartedAt: 2025-11-14 15:12:50 -0500 (Fri, 14 Nov 2025) EndedAt: 2025-11-14 15:13:00 -0500 (Fri, 14 Nov 2025) EllapsedTime: 9.8 seconds RetCode: 0 Status: OK