Package: SETA Version: 1.1.0 Command: /Library/Frameworks/R.framework/Resources/bin/R CMD build --keep-empty-dirs --no-resave-data SETA StartedAt: 2025-11-13 17:42:06 -0500 (Thu, 13 Nov 2025) EndedAt: 2025-11-13 17:42:38 -0500 (Thu, 13 Nov 2025) EllapsedTime: 32.4 seconds RetCode: 0 Status: OK PackageFile: SETA_1.1.0.tar.gz PackageFileSize: 4.935 MiB