Package: SETA Version: 1.1.0 Command: rm -rf SETA.buildbin-libdir && mkdir SETA.buildbin-libdir && /Users/biocbuild/BBS/utils/build-universal.sh SETA_1.1.0.tar.gz /Library/Frameworks/R.framework/Resources/bin/R SETA.buildbin-libdir StartedAt: 2025-11-13 23:56:35 -0500 (Thu, 13 Nov 2025) EndedAt: 2025-11-13 23:56:48 -0500 (Thu, 13 Nov 2025) EllapsedTime: 12.3 seconds RetCode: 0 Status: OK PackageFile: SETA_1.1.0.tgz PackageFileSize: 4.98 MiB