Package: SELEX Version: 1.43.0 Command: /home/biocbuild/bbs-3.23-bioc/R/bin/R CMD build --keep-empty-dirs --no-resave-data SELEX StartedAt: 2025-11-11 20:05:47 -0500 (Tue, 11 Nov 2025) EndedAt: 2025-11-11 20:06:10 -0500 (Tue, 11 Nov 2025) EllapsedTime: 23.0 seconds RetCode: 0 Status: OK PackageFile: SELEX_1.43.0.tar.gz PackageFileSize: 4.034 MiB