Package: SELEX Version: 1.43.0 Command: /Library/Frameworks/R.framework/Resources/bin/R CMD INSTALL SELEX StartedAt: 2025-11-14 15:08:39 -0500 (Fri, 14 Nov 2025) EndedAt: 2025-11-14 15:08:43 -0500 (Fri, 14 Nov 2025) EllapsedTime: 4.5 seconds RetCode: 0 Status: OK