Package: SELEX Version: 1.43.0 Command: /Library/Frameworks/R.framework/Resources/bin/R CMD build --keep-empty-dirs --no-resave-data SELEX StartedAt: 2025-11-14 17:38:29 -0500 (Fri, 14 Nov 2025) EndedAt: 2025-11-14 17:38:40 -0500 (Fri, 14 Nov 2025) EllapsedTime: 11.1 seconds RetCode: 0 Status: OK PackageFile: SELEX_1.43.0.tar.gz PackageFileSize: 4.034 MiB