Package: SELEX Version: 1.43.0 Command: rm -rf SELEX.buildbin-libdir && mkdir SELEX.buildbin-libdir && /Users/biocbuild/BBS/utils/build-universal.sh SELEX_1.43.0.tar.gz /Library/Frameworks/R.framework/Resources/bin/R SELEX.buildbin-libdir StartedAt: 2025-11-14 23:51:39 -0500 (Fri, 14 Nov 2025) EndedAt: 2025-11-14 23:51:45 -0500 (Fri, 14 Nov 2025) EllapsedTime: 6.1 seconds RetCode: 0 Status: OK PackageFile: SELEX_1.43.0.tgz PackageFileSize: 2.866 MiB