Package: SELEX Version: 1.43.0 Maintainer: Harmen J. Bussemaker MaintainerEmail: hjb2004 at columbia.edu git_url: https://git.bioconductor.org/packages/SELEX git_branch: devel git_last_commit: a65d5a7 git_last_commit_date: 2025-10-29 10:24:07 -0500 (Wed, 29 Oct 2025)