Package: SDAMS Version: 1.31.0 Command: /Library/Frameworks/R.framework/Resources/bin/R CMD build --keep-empty-dirs --no-resave-data SDAMS StartedAt: 2025-11-13 17:40:50 -0500 (Thu, 13 Nov 2025) EndedAt: 2025-11-13 17:41:14 -0500 (Thu, 13 Nov 2025) EllapsedTime: 24.3 seconds RetCode: 0 Status: OK PackageFile: SDAMS_1.31.0.tar.gz PackageFileSize: 1.28 MiB