Package: SDAMS Version: 1.31.0 Command: rm -rf SDAMS.buildbin-libdir && mkdir SDAMS.buildbin-libdir && /Users/biocbuild/BBS/utils/build-universal.sh SDAMS_1.31.0.tar.gz /Library/Frameworks/R.framework/Resources/bin/R SDAMS.buildbin-libdir StartedAt: 2025-11-14 23:51:24 -0500 (Fri, 14 Nov 2025) EndedAt: 2025-11-14 23:51:40 -0500 (Fri, 14 Nov 2025) EllapsedTime: 15.3 seconds RetCode: 0 Status: OK PackageFile: SDAMS_1.31.0.tgz PackageFileSize: 1.105 MiB