Package: SCnorm Version: 1.33.0 Command: /home/biocbuild/bbs-3.23-bioc/R/bin/R CMD INSTALL SCnorm StartedAt: 2025-11-13 15:32:38 -0500 (Thu, 13 Nov 2025) EndedAt: 2025-11-13 15:33:04 -0500 (Thu, 13 Nov 2025) EllapsedTime: 26.6 seconds RetCode: 0 Status: OK