Package: SCnorm Version: 1.33.0 Command: /Library/Frameworks/R.framework/Resources/bin/R CMD INSTALL SCnorm StartedAt: 2025-11-13 15:19:12 -0500 (Thu, 13 Nov 2025) EndedAt: 2025-11-13 15:19:23 -0500 (Thu, 13 Nov 2025) EllapsedTime: 10.6 seconds RetCode: 0 Status: OK