Package: SCnorm Version: 1.33.0 Command: rm -rf SCnorm.buildbin-libdir && mkdir SCnorm.buildbin-libdir && /Users/biocbuild/BBS/utils/build-universal.sh SCnorm_1.33.0.tar.gz /Library/Frameworks/R.framework/Resources/bin/R SCnorm.buildbin-libdir StartedAt: 2025-11-13 23:55:40 -0500 (Thu, 13 Nov 2025) EndedAt: 2025-11-13 23:55:54 -0500 (Thu, 13 Nov 2025) EllapsedTime: 14.3 seconds RetCode: 0 Status: OK PackageFile: SCnorm_1.33.0.tgz PackageFileSize: 3.047 MiB