Package: SCnorm Version: 1.33.0 Maintainer: Rhonda Bacher MaintainerEmail: rbacher at ufl.edu git_url: https://git.bioconductor.org/packages/SCnorm git_branch: devel git_last_commit: 8cf7fc8 git_last_commit_date: 2025-10-29 10:39:47 -0500 (Wed, 29 Oct 2025)