Package: SCOPE Version: 1.23.0 Command: /home/biocbuild/bbs-3.23-bioc/R/bin/R CMD build --keep-empty-dirs --no-resave-data SCOPE StartedAt: 2025-11-13 19:54:57 -0500 (Thu, 13 Nov 2025) EndedAt: 2025-11-13 20:03:29 -0500 (Thu, 13 Nov 2025) EllapsedTime: 511.6 seconds RetCode: 0 Status: OK PackageFile: SCOPE_1.23.0.tar.gz PackageFileSize: 391.6 KiB