Package: SCOPE Version: 1.23.0 Command: /Library/Frameworks/R.framework/Resources/bin/R CMD INSTALL SCOPE StartedAt: 2025-11-12 15:36:57 -0500 (Wed, 12 Nov 2025) EndedAt: 2025-11-12 15:37:12 -0500 (Wed, 12 Nov 2025) EllapsedTime: 14.8 seconds RetCode: 0 Status: OK