Package: SCOPE Version: 1.23.0 Command: /Library/Frameworks/R.framework/Resources/bin/R CMD build --keep-empty-dirs --no-resave-data SCOPE StartedAt: 2025-11-14 17:35:26 -0500 (Fri, 14 Nov 2025) EndedAt: 2025-11-14 17:38:45 -0500 (Fri, 14 Nov 2025) EllapsedTime: 198.2 seconds RetCode: 0 Status: OK PackageFile: SCOPE_1.23.0.tar.gz PackageFileSize: 391.8 KiB