Package: SCOPE Version: 1.23.0 Command: rm -rf SCOPE.buildbin-libdir && mkdir SCOPE.buildbin-libdir && /Users/biocbuild/BBS/utils/build-universal.sh SCOPE_1.23.0.tar.gz /Library/Frameworks/R.framework/Resources/bin/R SCOPE.buildbin-libdir StartedAt: 2025-11-12 21:10:14 -0500 (Wed, 12 Nov 2025) EndedAt: 2025-11-12 21:10:33 -0500 (Wed, 12 Nov 2025) EllapsedTime: 18.4 seconds RetCode: 0 Status: OK PackageFile: SCOPE_1.23.0.tgz PackageFileSize: 580.4 KiB