Package: SCOPE Version: 1.23.0 Maintainer: Rujin Wang MaintainerEmail: rujin at email.unc.edu git_url: https://git.bioconductor.org/packages/SCOPE git_branch: devel git_last_commit: ba69d58 git_last_commit_date: 2025-10-29 10:56:53 -0500 (Wed, 29 Oct 2025)