Package: SCFA Version: 1.21.0 Command: /home/biocbuild/bbs-3.23-bioc/R/bin/R CMD build --keep-empty-dirs --no-resave-data SCFA StartedAt: 2025-11-14 19:51:57 -0500 (Fri, 14 Nov 2025) EndedAt: 2025-11-14 19:54:27 -0500 (Fri, 14 Nov 2025) EllapsedTime: 150.2 seconds RetCode: 0 Status: OK PackageFile: SCFA_1.21.0.tar.gz PackageFileSize: 1.241 MiB