Package: SCFA Version: 1.21.0 Command: /Library/Frameworks/R.framework/Resources/bin/R CMD INSTALL SCFA StartedAt: 2025-11-14 15:04:56 -0500 (Fri, 14 Nov 2025) EndedAt: 2025-11-14 15:05:03 -0500 (Fri, 14 Nov 2025) EllapsedTime: 7.4 seconds RetCode: 0 Status: OK